BEGIN:VCALENDAR
VERSION:2.0
PRODID:http://pfarrei-steinwiesen.de
BEGIN:VEVENT
UID:adfd958e-36ba-11f1-a8bf-0242ac11002b-1777699800000-de
DTSTAMP:20260412T215803Z
DTSTART:20260502T053000Z
DTEND:20260502T063000Z
SUMMARY;LANGUAGE=de:Fußwallfahrt nach Marienweiher, Beginn an der Kirche
END:VEVENT
END:VCALENDAR
