BEGIN:VCALENDAR
VERSION:2.0
PRODID:http://pfarrei-steinwiesen.de
BEGIN:VEVENT
UID:83869622-38a9-11f1-a8bf-0242ac11002b-1778688000000-de
DTSTAMP:20260415T090013Z
DTSTART:20260513T160000Z
DTEND:20260513T180000Z
SUMMARY;LANGUAGE=de:Flurprozession mit Hl. Messe an der Kapelle in Ellersdorf mit anschl. Agape
END:VEVENT
END:VCALENDAR
